BEGIN:VCALENDAR
VERSION:2.0
PRODID:-//Hounslow Music Service | providing instrumental lessons for the borough&#039;s young people - ECPv5.16.4//NONSGML v1.0//EN
CALSCALE:GREGORIAN
METHOD:PUBLISH
X-ORIGINAL-URL:https://www.hounslowmusic.org.uk
X-WR-CALDESC:Events for Hounslow Music Service | providing instrumental lessons for the borough&#039;s young people
REFRESH-INTERVAL;VALUE=DURATION:PT1H
X-Robots-Tag:noindex
X-PUBLISHED-TTL:PT1H
BEGIN:VTIMEZONE
TZID:Europe/London
BEGIN:DAYLIGHT
TZOFFSETFROM:+0000
TZOFFSETTO:+0100
TZNAME:BST
DTSTART:20260329T010000
END:DAYLIGHT
BEGIN:STANDARD
TZOFFSETFROM:+0100
TZOFFSETTO:+0000
TZNAME:GMT
DTSTART:20261025T010000
END:STANDARD
BEGIN:DAYLIGHT
TZOFFSETFROM:+0000
TZOFFSETTO:+0100
TZNAME:BST
DTSTART:20270328T010000
END:DAYLIGHT
BEGIN:STANDARD
TZOFFSETFROM:+0100
TZOFFSETTO:+0000
TZNAME:GMT
DTSTART:20271031T010000
END:STANDARD
END:VTIMEZONE
BEGIN:VEVENT
DTSTART;TZID=Europe/London:20260506T100000
DTEND;TZID=Europe/London:20270217T200000
DTSTAMP:20260422T225845
CREATED:20230512T090843Z
LAST-MODIFIED:20230512T090843Z
UID:70964-1778061600-1802894400@www.hounslowmusic.org.uk
SUMMARY:MIDWEEK MUSIC SCHOOL - Wednesday
DESCRIPTION:
URL:https://www.hounslowmusic.org.uk/event/midweek-music-school-wednesday/2026-05-06/
LOCATION:Hounslow Music Service\, 64a Pears Rd\, London\, TW3 1SR\, United Kingdom
CATEGORIES:MUSIC SCHOOL
END:VEVENT
BEGIN:VEVENT
DTSTART;TZID=Europe/London:20260506T170000
DTEND;TZID=Europe/London:20270210T193000
DTSTAMP:20260422T225845
CREATED:20230512T091338Z
LAST-MODIFIED:20230512T091338Z
UID:70734-1778086800-1802287800@www.hounslowmusic.org.uk
SUMMARY:WEDNESDAY MUSIC CENTRE - Ensembles
DESCRIPTION:
URL:https://www.hounslowmusic.org.uk/event/wednesday-music-centre-ensembles/2026-05-06/
LOCATION:Isleworth & Syon School\, Ridgeway Rd\, Isleworth\, TW7 5LJ\, United Kingdom
CATEGORIES:MUSIC CENTRE
END:VEVENT
BEGIN:VEVENT
DTSTART;TZID=Europe/London:20260507T100000
DTEND;TZID=Europe/London:20270218T200000
DTSTAMP:20260422T225845
CREATED:20230512T091917Z
LAST-MODIFIED:20250709T192951Z
UID:70836-1778148000-1802980800@www.hounslowmusic.org.uk
SUMMARY:MIDWEEK MUSIC SCHOOL - Thursday
DESCRIPTION:
URL:https://www.hounslowmusic.org.uk/event/midweek-music-school-thursday/2026-05-07/
LOCATION:Hounslow Music Service\, 64a Pears Rd\, London\, TW3 1SR\, United Kingdom
CATEGORIES:MUSIC SCHOOL
END:VEVENT
BEGIN:VEVENT
DTSTART;TZID=Europe/London:20260508T100000
DTEND;TZID=Europe/London:20270219T200000
DTSTAMP:20260422T225845
CREATED:20230512T092416Z
LAST-MODIFIED:20250709T194332Z
UID:70894-1778234400-1803067200@www.hounslowmusic.org.uk
SUMMARY:MIDWEEK MUSIC SCHOOL - Friday
DESCRIPTION:
URL:https://www.hounslowmusic.org.uk/event/midweek-music-school-friday/2026-05-08/
CATEGORIES:MUSIC SCHOOL
END:VEVENT
BEGIN:VEVENT
DTSTART;TZID=Europe/London:20260508T173000
DTEND;TZID=Europe/London:20270212T190000
DTSTAMP:20260422T225845
CREATED:20230512T093906Z
LAST-MODIFIED:20250709T012653Z
UID:70663-1778261400-1802458800@www.hounslowmusic.org.uk
SUMMARY:FRIDAY MUSIC CENTRE - Youth Strings
DESCRIPTION:
URL:https://www.hounslowmusic.org.uk/event/friday-music-centre-youth-strings/2026-05-08/
LOCATION:Hounslow Music Service\, 64a Pears Rd\, London\, TW3 1SR\, United Kingdom
CATEGORIES:MUSIC CENTRE
END:VEVENT
BEGIN:VEVENT
DTSTART;TZID=Europe/London:20260509T083000
DTEND;TZID=Europe/London:20270220T123000
DTSTAMP:20260422T225845
CREATED:20230512T094753Z
LAST-MODIFIED:20230512T094753Z
UID:70706-1778315400-1803126600@www.hounslowmusic.org.uk
SUMMARY:SATURDAY MUSIC ACADEMY
DESCRIPTION:
URL:https://www.hounslowmusic.org.uk/event/music-academy/2026-05-09/
LOCATION:Hounslow Town Primary School\, School Rd\, London\, TW3 1QZ\, United Kingdom
CATEGORIES:MUSIC ACADEMY
END:VEVENT
BEGIN:VEVENT
DTSTART;TZID=Europe/London:20260511T100000
DTEND;TZID=Europe/London:20270222T200000
DTSTAMP:20260422T225845
CREATED:20230512T090248Z
LAST-MODIFIED:20230512T090248Z
UID:71017-1778493600-1803326400@www.hounslowmusic.org.uk
SUMMARY:MIDWEEK MUSIC SCHOOL - Monday
DESCRIPTION:
URL:https://www.hounslowmusic.org.uk/event/midweek-music-school-monday/2026-05-11/
LOCATION:Hounslow Music Service\, 64a Pears Rd\, London\, TW3 1SR\, United Kingdom
CATEGORIES:MUSIC SCHOOL
END:VEVENT
BEGIN:VEVENT
DTSTART;TZID=Europe/London:20260513T100000
DTEND;TZID=Europe/London:20270224T200000
DTSTAMP:20260422T225845
CREATED:20230512T090843Z
LAST-MODIFIED:20230512T090843Z
UID:70965-1778666400-1803499200@www.hounslowmusic.org.uk
SUMMARY:MIDWEEK MUSIC SCHOOL - Wednesday
DESCRIPTION:
URL:https://www.hounslowmusic.org.uk/event/midweek-music-school-wednesday/2026-05-13/
LOCATION:Hounslow Music Service\, 64a Pears Rd\, London\, TW3 1SR\, United Kingdom
CATEGORIES:MUSIC SCHOOL
END:VEVENT
BEGIN:VEVENT
DTSTART;TZID=Europe/London:20260513T170000
DTEND;TZID=Europe/London:20270217T193000
DTSTAMP:20260422T225845
CREATED:20230512T091338Z
LAST-MODIFIED:20230512T091338Z
UID:70735-1778691600-1802892600@www.hounslowmusic.org.uk
SUMMARY:WEDNESDAY MUSIC CENTRE - Ensembles
DESCRIPTION:
URL:https://www.hounslowmusic.org.uk/event/wednesday-music-centre-ensembles/2026-05-13/
LOCATION:Isleworth & Syon School\, Ridgeway Rd\, Isleworth\, TW7 5LJ\, United Kingdom
CATEGORIES:MUSIC CENTRE
END:VEVENT
BEGIN:VEVENT
DTSTART;TZID=Europe/London:20260514T100000
DTEND;TZID=Europe/London:20270225T200000
DTSTAMP:20260422T225845
CREATED:20230512T091917Z
LAST-MODIFIED:20250709T192951Z
UID:70837-1778752800-1803585600@www.hounslowmusic.org.uk
SUMMARY:MIDWEEK MUSIC SCHOOL - Thursday
DESCRIPTION:
URL:https://www.hounslowmusic.org.uk/event/midweek-music-school-thursday/2026-05-14/
LOCATION:Hounslow Music Service\, 64a Pears Rd\, London\, TW3 1SR\, United Kingdom
CATEGORIES:MUSIC SCHOOL
END:VEVENT
BEGIN:VEVENT
DTSTART;TZID=Europe/London:20260515T100000
DTEND;TZID=Europe/London:20270226T200000
DTSTAMP:20260422T225845
CREATED:20230512T092416Z
LAST-MODIFIED:20250709T194333Z
UID:70895-1778839200-1803672000@www.hounslowmusic.org.uk
SUMMARY:MIDWEEK MUSIC SCHOOL - Friday
DESCRIPTION:
URL:https://www.hounslowmusic.org.uk/event/midweek-music-school-friday/2026-05-15/
CATEGORIES:MUSIC SCHOOL
END:VEVENT
BEGIN:VEVENT
DTSTART;TZID=Europe/London:20260515T173000
DTEND;TZID=Europe/London:20270219T190000
DTSTAMP:20260422T225845
CREATED:20230512T093906Z
LAST-MODIFIED:20250709T012653Z
UID:70664-1778866200-1803063600@www.hounslowmusic.org.uk
SUMMARY:FRIDAY MUSIC CENTRE - Youth Strings
DESCRIPTION:
URL:https://www.hounslowmusic.org.uk/event/friday-music-centre-youth-strings/2026-05-15/
LOCATION:Hounslow Music Service\, 64a Pears Rd\, London\, TW3 1SR\, United Kingdom
CATEGORIES:MUSIC CENTRE
END:VEVENT
BEGIN:VEVENT
DTSTART;TZID=Europe/London:20260516T083000
DTEND;TZID=Europe/London:20270227T123000
DTSTAMP:20260422T225845
CREATED:20230512T094753Z
LAST-MODIFIED:20230512T094753Z
UID:70707-1778920200-1803731400@www.hounslowmusic.org.uk
SUMMARY:SATURDAY MUSIC ACADEMY
DESCRIPTION:
URL:https://www.hounslowmusic.org.uk/event/music-academy/2026-05-16/
LOCATION:Hounslow Town Primary School\, School Rd\, London\, TW3 1QZ\, United Kingdom
CATEGORIES:MUSIC ACADEMY
END:VEVENT
BEGIN:VEVENT
DTSTART;TZID=Europe/London:20260518T100000
DTEND;TZID=Europe/London:20270301T200000
DTSTAMP:20260422T225845
CREATED:20230512T090248Z
LAST-MODIFIED:20230512T090248Z
UID:71018-1779098400-1803931200@www.hounslowmusic.org.uk
SUMMARY:MIDWEEK MUSIC SCHOOL - Monday
DESCRIPTION:
URL:https://www.hounslowmusic.org.uk/event/midweek-music-school-monday/2026-05-18/
LOCATION:Hounslow Music Service\, 64a Pears Rd\, London\, TW3 1SR\, United Kingdom
CATEGORIES:MUSIC SCHOOL
END:VEVENT
BEGIN:VEVENT
DTSTART;VALUE=DATE:20260523
DTEND;VALUE=DATE:20270217
DTSTAMP:20260422T225845
CREATED:20250709T010934Z
LAST-MODIFIED:20250709T010934Z
UID:70762-1779494400-1802822399@www.hounslowmusic.org.uk
SUMMARY:HMS Closed for holidays
DESCRIPTION:
URL:https://www.hounslowmusic.org.uk/event/hms-closed-for-holidays/2026-05-23/
CATEGORIES:BREAK
END:VEVENT
BEGIN:VEVENT
DTSTART;VALUE=DATE:20260601
DTEND;VALUE=DATE:20261229
DTSTAMP:20260422T225845
CREATED:20250709T011457Z
LAST-MODIFIED:20250709T011457Z
UID:70783-1780272000-1798502399@www.hounslowmusic.org.uk
SUMMARY:HMS Reopen
DESCRIPTION:
URL:https://www.hounslowmusic.org.uk/event/hms-reopen/2026-06-01/
CATEGORIES:BREAK
END:VEVENT
BEGIN:VEVENT
DTSTART;TZID=Europe/London:20260601T100000
DTEND;TZID=Europe/London:20270315T200000
DTSTAMP:20260422T225845
CREATED:20230512T090248Z
LAST-MODIFIED:20230512T090248Z
UID:71019-1780308000-1805140800@www.hounslowmusic.org.uk
SUMMARY:MIDWEEK MUSIC SCHOOL - Monday
DESCRIPTION:
URL:https://www.hounslowmusic.org.uk/event/midweek-music-school-monday/2026-06-01/
LOCATION:Hounslow Music Service\, 64a Pears Rd\, London\, TW3 1SR\, United Kingdom
CATEGORIES:MUSIC SCHOOL
END:VEVENT
BEGIN:VEVENT
DTSTART;TZID=Europe/London:20260603T100000
DTEND;TZID=Europe/London:20270317T200000
DTSTAMP:20260422T225845
CREATED:20230512T090843Z
LAST-MODIFIED:20230512T090843Z
UID:70966-1780480800-1805313600@www.hounslowmusic.org.uk
SUMMARY:MIDWEEK MUSIC SCHOOL - Wednesday
DESCRIPTION:
URL:https://www.hounslowmusic.org.uk/event/midweek-music-school-wednesday/2026-06-03/
LOCATION:Hounslow Music Service\, 64a Pears Rd\, London\, TW3 1SR\, United Kingdom
CATEGORIES:MUSIC SCHOOL
END:VEVENT
BEGIN:VEVENT
DTSTART;TZID=Europe/London:20260603T170000
DTEND;TZID=Europe/London:20270310T193000
DTSTAMP:20260422T225845
CREATED:20230512T091338Z
LAST-MODIFIED:20230512T091338Z
UID:70736-1780506000-1804707000@www.hounslowmusic.org.uk
SUMMARY:WEDNESDAY MUSIC CENTRE - Ensembles
DESCRIPTION:
URL:https://www.hounslowmusic.org.uk/event/wednesday-music-centre-ensembles/2026-06-03/
LOCATION:Isleworth & Syon School\, Ridgeway Rd\, Isleworth\, TW7 5LJ\, United Kingdom
CATEGORIES:MUSIC CENTRE
END:VEVENT
BEGIN:VEVENT
DTSTART;TZID=Europe/London:20260604T100000
DTEND;TZID=Europe/London:20270318T200000
DTSTAMP:20260422T225845
CREATED:20230512T091917Z
LAST-MODIFIED:20250709T192952Z
UID:70838-1780567200-1805400000@www.hounslowmusic.org.uk
SUMMARY:MIDWEEK MUSIC SCHOOL - Thursday
DESCRIPTION:
URL:https://www.hounslowmusic.org.uk/event/midweek-music-school-thursday/2026-06-04/
LOCATION:Hounslow Music Service\, 64a Pears Rd\, London\, TW3 1SR\, United Kingdom
CATEGORIES:MUSIC SCHOOL
END:VEVENT
BEGIN:VEVENT
DTSTART;TZID=Europe/London:20260605T100000
DTEND;TZID=Europe/London:20270319T200000
DTSTAMP:20260422T225845
CREATED:20230512T092416Z
LAST-MODIFIED:20250709T194334Z
UID:70896-1780653600-1805486400@www.hounslowmusic.org.uk
SUMMARY:MIDWEEK MUSIC SCHOOL - Friday
DESCRIPTION:
URL:https://www.hounslowmusic.org.uk/event/midweek-music-school-friday/2026-06-05/
CATEGORIES:MUSIC SCHOOL
END:VEVENT
BEGIN:VEVENT
DTSTART;TZID=Europe/London:20260605T173000
DTEND;TZID=Europe/London:20270312T190000
DTSTAMP:20260422T225845
CREATED:20230512T093906Z
LAST-MODIFIED:20250709T012654Z
UID:70665-1780680600-1804878000@www.hounslowmusic.org.uk
SUMMARY:FRIDAY MUSIC CENTRE - Youth Strings
DESCRIPTION:
URL:https://www.hounslowmusic.org.uk/event/friday-music-centre-youth-strings/2026-06-05/
LOCATION:Hounslow Music Service\, 64a Pears Rd\, London\, TW3 1SR\, United Kingdom
CATEGORIES:MUSIC CENTRE
END:VEVENT
BEGIN:VEVENT
DTSTART;TZID=Europe/London:20260606T083000
DTEND;TZID=Europe/London:20270320T123000
DTSTAMP:20260422T225845
CREATED:20230512T094753Z
LAST-MODIFIED:20230512T094753Z
UID:70708-1780734600-1805545800@www.hounslowmusic.org.uk
SUMMARY:SATURDAY MUSIC ACADEMY
DESCRIPTION:
URL:https://www.hounslowmusic.org.uk/event/music-academy/2026-06-06/
LOCATION:Hounslow Town Primary School\, School Rd\, London\, TW3 1QZ\, United Kingdom
CATEGORIES:MUSIC ACADEMY
END:VEVENT
BEGIN:VEVENT
DTSTART;TZID=Europe/London:20260608T100000
DTEND;TZID=Europe/London:20270322T200000
DTSTAMP:20260422T225845
CREATED:20230512T090248Z
LAST-MODIFIED:20230512T090248Z
UID:71020-1780912800-1805745600@www.hounslowmusic.org.uk
SUMMARY:MIDWEEK MUSIC SCHOOL - Monday
DESCRIPTION:
URL:https://www.hounslowmusic.org.uk/event/midweek-music-school-monday/2026-06-08/
LOCATION:Hounslow Music Service\, 64a Pears Rd\, London\, TW3 1SR\, United Kingdom
CATEGORIES:MUSIC SCHOOL
END:VEVENT
BEGIN:VEVENT
DTSTART;TZID=Europe/London:20260610T100000
DTEND;TZID=Europe/London:20270324T200000
DTSTAMP:20260422T225845
CREATED:20230512T090843Z
LAST-MODIFIED:20230512T090843Z
UID:70967-1781085600-1805918400@www.hounslowmusic.org.uk
SUMMARY:MIDWEEK MUSIC SCHOOL - Wednesday
DESCRIPTION:
URL:https://www.hounslowmusic.org.uk/event/midweek-music-school-wednesday/2026-06-10/
LOCATION:Hounslow Music Service\, 64a Pears Rd\, London\, TW3 1SR\, United Kingdom
CATEGORIES:MUSIC SCHOOL
END:VEVENT
BEGIN:VEVENT
DTSTART;TZID=Europe/London:20260610T170000
DTEND;TZID=Europe/London:20270317T193000
DTSTAMP:20260422T225845
CREATED:20230512T091338Z
LAST-MODIFIED:20230512T091338Z
UID:70737-1781110800-1805311800@www.hounslowmusic.org.uk
SUMMARY:WEDNESDAY MUSIC CENTRE - Ensembles
DESCRIPTION:
URL:https://www.hounslowmusic.org.uk/event/wednesday-music-centre-ensembles/2026-06-10/
LOCATION:Isleworth & Syon School\, Ridgeway Rd\, Isleworth\, TW7 5LJ\, United Kingdom
CATEGORIES:MUSIC CENTRE
END:VEVENT
BEGIN:VEVENT
DTSTART;TZID=Europe/London:20260611T100000
DTEND;TZID=Europe/London:20270325T200000
DTSTAMP:20260422T225845
CREATED:20230512T091917Z
LAST-MODIFIED:20250709T192952Z
UID:70839-1781172000-1806004800@www.hounslowmusic.org.uk
SUMMARY:MIDWEEK MUSIC SCHOOL - Thursday
DESCRIPTION:
URL:https://www.hounslowmusic.org.uk/event/midweek-music-school-thursday/2026-06-11/
LOCATION:Hounslow Music Service\, 64a Pears Rd\, London\, TW3 1SR\, United Kingdom
CATEGORIES:MUSIC SCHOOL
END:VEVENT
BEGIN:VEVENT
DTSTART;TZID=Europe/London:20260612T100000
DTEND;TZID=Europe/London:20270326T200000
DTSTAMP:20260422T225845
CREATED:20230512T092416Z
LAST-MODIFIED:20250709T194334Z
UID:70897-1781258400-1806091200@www.hounslowmusic.org.uk
SUMMARY:MIDWEEK MUSIC SCHOOL - Friday
DESCRIPTION:
URL:https://www.hounslowmusic.org.uk/event/midweek-music-school-friday/2026-06-12/
CATEGORIES:MUSIC SCHOOL
END:VEVENT
BEGIN:VEVENT
DTSTART;TZID=Europe/London:20260612T173000
DTEND;TZID=Europe/London:20270319T190000
DTSTAMP:20260422T225845
CREATED:20230512T093906Z
LAST-MODIFIED:20250709T012654Z
UID:70666-1781285400-1805482800@www.hounslowmusic.org.uk
SUMMARY:FRIDAY MUSIC CENTRE - Youth Strings
DESCRIPTION:
URL:https://www.hounslowmusic.org.uk/event/friday-music-centre-youth-strings/2026-06-12/
LOCATION:Hounslow Music Service\, 64a Pears Rd\, London\, TW3 1SR\, United Kingdom
CATEGORIES:MUSIC CENTRE
END:VEVENT
BEGIN:VEVENT
DTSTART;TZID=Europe/London:20260613T083000
DTEND;TZID=Europe/London:20270327T123000
DTSTAMP:20260422T225845
CREATED:20230512T094753Z
LAST-MODIFIED:20230512T094753Z
UID:70709-1781339400-1806150600@www.hounslowmusic.org.uk
SUMMARY:SATURDAY MUSIC ACADEMY
DESCRIPTION:
URL:https://www.hounslowmusic.org.uk/event/music-academy/2026-06-13/
LOCATION:Hounslow Town Primary School\, School Rd\, London\, TW3 1QZ\, United Kingdom
CATEGORIES:MUSIC ACADEMY
END:VEVENT
END:VCALENDAR