BEGIN:VCALENDAR
VERSION:2.0
PRODID:-//Hounslow Music Service | providing instrumental lessons for the borough&#039;s young people - ECPv5.16.4//NONSGML v1.0//EN
CALSCALE:GREGORIAN
METHOD:PUBLISH
X-WR-CALNAME:Hounslow Music Service | providing instrumental lessons for the borough&#039;s young people
X-ORIGINAL-URL:https://www.hounslowmusic.org.uk
X-WR-CALDESC:Events for Hounslow Music Service | providing instrumental lessons for the borough&#039;s young people
REFRESH-INTERVAL;VALUE=DURATION:PT1H
X-Robots-Tag:noindex
X-PUBLISHED-TTL:PT1H
BEGIN:VTIMEZONE
TZID:Europe/London
BEGIN:DAYLIGHT
TZOFFSETFROM:+0000
TZOFFSETTO:+0100
TZNAME:BST
DTSTART:20220327T010000
END:DAYLIGHT
BEGIN:STANDARD
TZOFFSETFROM:+0100
TZOFFSETTO:+0000
TZNAME:GMT
DTSTART:20221030T010000
END:STANDARD
BEGIN:DAYLIGHT
TZOFFSETFROM:+0000
TZOFFSETTO:+0100
TZNAME:BST
DTSTART:20230326T010000
END:DAYLIGHT
BEGIN:STANDARD
TZOFFSETFROM:+0100
TZOFFSETTO:+0000
TZNAME:GMT
DTSTART:20231029T010000
END:STANDARD
BEGIN:DAYLIGHT
TZOFFSETFROM:+0000
TZOFFSETTO:+0100
TZNAME:BST
DTSTART:20240331T010000
END:DAYLIGHT
BEGIN:STANDARD
TZOFFSETFROM:+0100
TZOFFSETTO:+0000
TZNAME:GMT
DTSTART:20241027T010000
END:STANDARD
BEGIN:DAYLIGHT
TZOFFSETFROM:+0000
TZOFFSETTO:+0100
TZNAME:BST
DTSTART:20250330T010000
END:DAYLIGHT
BEGIN:STANDARD
TZOFFSETFROM:+0100
TZOFFSETTO:+0000
TZNAME:GMT
DTSTART:20251026T010000
END:STANDARD
END:VTIMEZONE
BEGIN:VEVENT
DTSTART;TZID=Europe/London:20250211T190000
DTEND;TZID=Europe/London:20250909T190000
DTSTAMP:20260419T165637
CREATED:20240115T102017Z
LAST-MODIFIED:20240115T102017Z
UID:69964-1739300400-1757444400@www.hounslowmusic.org.uk
SUMMARY:Soloists' Concert
DESCRIPTION:An opportunity for any of our talented young musicians to demonstrate the progress they have been making. \nYoung Musicians who currently learn with HMS can be nominated to perform in this concert by their HMS teacher.
URL:https://www.hounslowmusic.org.uk/event/soloists-concert/2025-02-11/
LOCATION:The Music Centre\, 64a Pears Road\, Hounslow\, Middx\, TW3 1SR\, United Kingdom
ORGANIZER;CN="Alan%20Goodall":MAILTO:alan.goodall@hounslowmusic.org.uk
END:VEVENT
BEGIN:VEVENT
DTSTART;TZID=Europe/London:20241204T170000
DTEND;TZID=Europe/London:20250702T200000
DTSTAMP:20260419T165637
CREATED:20230512T100225Z
LAST-MODIFIED:20240912T074947Z
UID:4127-1733331600-1751486400@www.hounslowmusic.org.uk
SUMMARY:END OF TERM CONCERTS
DESCRIPTION:
URL:https://www.hounslowmusic.org.uk/event/end-of-term-concerts-2-2024-03-20/2024-12-04/
LOCATION:Isleworth & Syon School\, Ridgeway Rd\, Isleworth\, TW7 5LJ\, United Kingdom
CATEGORIES:CONCERT
END:VEVENT
BEGIN:VEVENT
DTSTART;TZID=Europe/London:20241126T190000
DTEND;TZID=Europe/London:20250624T200000
DTSTAMP:20260419T165637
CREATED:20240115T102017Z
LAST-MODIFIED:20240912T082322Z
UID:4718-1732647600-1750795200@www.hounslowmusic.org.uk
SUMMARY:Soloists' Concert
DESCRIPTION:An opportunity for any of our talented young musicians to demonstrate the progress they have been making. \nYoung Musicians who currently learn with HMS can be nominated to perform in this concert by their HMS teacher.
URL:https://www.hounslowmusic.org.uk/event/soloists-concert/2024-11-26/
LOCATION:The Music Centre\, 64a Pears Road\, Hounslow\, Middx\, TW3 1SR\, United Kingdom
ORGANIZER;CN="Alan%20Goodall":MAILTO:alan.goodall@hounslowmusic.org.uk
END:VEVENT
BEGIN:VEVENT
DTSTART;TZID=Europe/London:20241110T100000
DTEND;TZID=Europe/London:20241110T110000
DTSTAMP:20260419T165637
CREATED:20240912T082951Z
LAST-MODIFIED:20240912T082951Z
UID:69970-1731232800-1731236400@www.hounslowmusic.org.uk
SUMMARY:Remembrance Sunday
DESCRIPTION:Members of the Hounslow Youth Concert Band perform as part of the Hounslow Remembrance Service.
URL:https://www.hounslowmusic.org.uk/event/remembrance-sunday/
END:VEVENT
BEGIN:VEVENT
DTSTART;TZID=Europe/London:20240626T170000
DTEND;TZID=Europe/London:20240626T193000
DTSTAMP:20260419T165637
CREATED:20230512T091338Z
LAST-MODIFIED:20230905T121342Z
UID:3682-1719421200-1719430200@www.hounslowmusic.org.uk
SUMMARY:WEDNESDAY MUSIC CENTRE - Ensembles
DESCRIPTION:
URL:https://www.hounslowmusic.org.uk/event/wednesday-music-centre-ensembles-2024-06-26/
LOCATION:Isleworth & Syon School\, Ridgeway Rd\, Isleworth\, TW7 5LJ\, United Kingdom
CATEGORIES:MUSIC CENTRE
END:VEVENT
BEGIN:VEVENT
DTSTART;VALUE=DATE:20240329
DTEND;VALUE=DATE:20240415
DTSTAMP:20260419T165637
CREATED:20240130T111716Z
LAST-MODIFIED:20240130T111716Z
UID:4759-1711670400-1713139199@www.hounslowmusic.org.uk
SUMMARY:HMS Office Closed
DESCRIPTION:HMS
URL:https://www.hounslowmusic.org.uk/event/hms-office-closed-3/
END:VEVENT
BEGIN:VEVENT
DTSTART;TZID=Europe/London:20240328T130000
DTEND;TZID=Europe/London:20240328T170000
DTSTAMP:20260419T165637
CREATED:20240130T111435Z
LAST-MODIFIED:20240130T111609Z
UID:4747-1711630800-1711645200@www.hounslowmusic.org.uk
SUMMARY:HMS Office Closed
DESCRIPTION:
URL:https://www.hounslowmusic.org.uk/event/hms-office-closed-2/2024-03-28/
END:VEVENT
BEGIN:VEVENT
DTSTART;TZID=Europe/London:20240326T190000
DTEND;TZID=Europe/London:20240326T200000
DTSTAMP:20260419T165637
CREATED:20240115T101539Z
LAST-MODIFIED:20240115T101600Z
UID:4713-1711479600-1711483200@www.hounslowmusic.org.uk
SUMMARY:Soloists' Concert - Brass
DESCRIPTION:An opportunity for our talented young brass players to demonstrate the progress they have been making. \nYoung Musicians who currently learn with HMS can be nominated to perform in this concert by their HMS teacher.
URL:https://www.hounslowmusic.org.uk/event/soloists-concert-brass/
LOCATION:The Music Centre\, 64a Pears Road\, Hounslow\, Middx\, TW3 1SR\, United Kingdom
ORGANIZER;CN="Alan%20Goodall":MAILTO:alan.goodall@hounslowmusic.org.uk
END:VEVENT
BEGIN:VEVENT
DTSTART;TZID=Europe/London:20240319T190000
DTEND;TZID=Europe/London:20240319T200000
DTSTAMP:20260419T165637
CREATED:20240115T101303Z
LAST-MODIFIED:20240115T101701Z
UID:4710-1710874800-1710878400@www.hounslowmusic.org.uk
SUMMARY:Soloists' Concert - Bowed Strings
DESCRIPTION:An opportunity for our talented young string players to demonstrate the progress they have been making. \nYoung Musicians who currently learn with HMS can be nominated to perform in this concert by their HMS teacher.
URL:https://www.hounslowmusic.org.uk/event/soloists-concert-bowed-strings/
LOCATION:The Music Centre\, 64a Pears Road\, Hounslow\, Middx\, TW3 1SR\, United Kingdom
ORGANIZER;CN="Alan%20Goodall":MAILTO:alan.goodall@hounslowmusic.org.uk
END:VEVENT
BEGIN:VEVENT
DTSTART;TZID=Europe/London:20240314T190000
DTEND;TZID=Europe/London:20240314T210000
DTSTAMP:20260419T165637
CREATED:20240115T103451Z
LAST-MODIFIED:20240115T103451Z
UID:4720-1710442800-1710450000@www.hounslowmusic.org.uk
SUMMARY:Hounslow Brass @ The Isleworth Society Variety Evening
DESCRIPTION:Hounslow Brass will be performing as part of the Isleworth Society’s Variety Evening
URL:https://www.hounslowmusic.org.uk/event/hounslow-brass-the-isleworth-society-variety-evening/
LOCATION:Isleworth Public Hall\, South Street\,\, Isleworth\, Middlesex\, TW7 7BG\, United Kingdom
ORGANIZER;CN="Alan%20Goodall":MAILTO:alan.goodall@hounslowmusic.org.uk
END:VEVENT
BEGIN:VEVENT
DTSTART;TZID=Europe/London:20240214T090000
DTEND;TZID=Europe/London:20240214T170000
DTSTAMP:20260419T165637
CREATED:20240130T103934Z
LAST-MODIFIED:20240130T104100Z
UID:4735-1707901200-1707930000@www.hounslowmusic.org.uk
SUMMARY:Trinity Exam Centre
DESCRIPTION:HMS hosts the Trinity Exams at our music centre. \nThese exams are open to all pupils who receive tuition through HMS.
URL:https://www.hounslowmusic.org.uk/event/abrsm-exam-centre/
LOCATION:The Music Centre\, 64a Pears Road\, Hounslow\, Middx\, TW3 1SR\, United Kingdom
ORGANIZER;CN="Alan%20Goodall":MAILTO:alan.goodall@hounslowmusic.org.uk
END:VEVENT
BEGIN:VEVENT
DTSTART;TZID=Europe/London:20240213T093000
DTEND;TZID=Europe/London:20240213T170000
DTSTAMP:20260419T165637
CREATED:20240130T104225Z
LAST-MODIFIED:20240130T104225Z
UID:4738-1707816600-1707843600@www.hounslowmusic.org.uk
SUMMARY:ABRSM Exam Centre
DESCRIPTION:HMS hosts the Associated Board of the Royal Schools of Music Exams at our music centre. \nThese exams are open to all pupils who receive tuition through HMS.
URL:https://www.hounslowmusic.org.uk/event/abrsm-exam-centre-2/
LOCATION:The Music Centre\, 64a Pears Road\, Hounslow\, Middx\, TW3 1SR\, United Kingdom
ORGANIZER;CN="Alan%20Goodall":MAILTO:alan.goodall@hounslowmusic.org.uk
END:VEVENT
BEGIN:VEVENT
DTSTART;VALUE=DATE:20240212
DTEND;VALUE=DATE:20240213
DTSTAMP:20260419T165637
CREATED:20240130T103709Z
LAST-MODIFIED:20240130T104406Z
UID:4731-1707696000-1707782399@www.hounslowmusic.org.uk
SUMMARY:HMS Office Closed
DESCRIPTION:
URL:https://www.hounslowmusic.org.uk/event/hms-office-closed/2024-02-12/
LOCATION:The Music Centre\, 64a Pears Road\, Hounslow\, Middx\, TW3 1SR\, United Kingdom
ORGANIZER;CN="Alan%20Goodall":MAILTO:alan.goodall@hounslowmusic.org.uk
END:VEVENT
BEGIN:VEVENT
DTSTART;TZID=Europe/London:20240206T190000
DTEND;TZID=Europe/London:20240206T200000
DTSTAMP:20260419T165637
CREATED:20231121T122530Z
LAST-MODIFIED:20240115T101110Z
UID:4663-1707246000-1707249600@www.hounslowmusic.org.uk
SUMMARY:Soloists' Concert
DESCRIPTION:An opportunity for HMS pupils to perform solo works to a friendly\, supportive audience of peers and supporters.
URL:https://www.hounslowmusic.org.uk/event/chamber-concert/
LOCATION:The Music Centre\, 64a Pears Road\, Hounslow\, Middx\, TW3 1SR\, United Kingdom
CATEGORIES:CONCERT
ORGANIZER;CN="Alan%20Goodall":MAILTO:alan.goodall@hounslowmusic.org.uk
END:VEVENT
BEGIN:VEVENT
DTSTART;TZID=Europe/London:20231213T170000
DTEND;TZID=Europe/London:20231213T200000
DTSTAMP:20260419T165637
CREATED:20230512T100225Z
LAST-MODIFIED:20231121T123029Z
UID:4125-1702486800-1702497600@www.hounslowmusic.org.uk
SUMMARY:END OF TERM CONCERTS
DESCRIPTION:
URL:https://www.hounslowmusic.org.uk/event/end-of-term-concerts-2/
LOCATION:Isleworth & Syon School\, Ridgeway Rd\, Isleworth\, TW7 5LJ\, United Kingdom
CATEGORIES:CONCERT
END:VEVENT
BEGIN:VEVENT
DTSTART;TZID=Europe/London:20231206T170000
DTEND;TZID=Europe/London:20231206T170000
DTSTAMP:20260419T165637
CREATED:20230905T121555Z
LAST-MODIFIED:20231121T124041Z
UID:4593-1701882000-1701882000@www.hounslowmusic.org.uk
SUMMARY:WEDNESDAY MUSIC CENTRE - Ensembles
DESCRIPTION:
URL:https://www.hounslowmusic.org.uk/event/wednesday-music-centre-2/
LOCATION:Isleworth & Syon School\, Ridgeway Rd\, Isleworth\, TW7 5LJ\, United Kingdom
CATEGORIES:MUSIC CENTRE
ORGANIZER;CN="Alan%20Goodall":MAILTO:alan.goodall@hounslowmusic.org.uk
END:VEVENT
BEGIN:VEVENT
DTSTART;VALUE=DATE:20230717
DTEND;VALUE=DATE:20230721
DTSTAMP:20260419T165637
CREATED:20230512T121550Z
LAST-MODIFIED:20230721T071038Z
UID:4149-1689552000-1689897599@www.hounslowmusic.org.uk
SUMMARY:European Tour
DESCRIPTION:
URL:https://www.hounslowmusic.org.uk/event/european-tour/
LOCATION:Belgium\, Belgium
CATEGORIES:TOUR
END:VEVENT
BEGIN:VEVENT
DTSTART;TZID=Europe/London:20230710T160000
DTEND;TZID=Europe/London:20230710T200000
DTSTAMP:20260419T165637
CREATED:20221010T092819Z
LAST-MODIFIED:20230512T083701Z
UID:3455-1689004800-1689019200@www.hounslowmusic.org.uk
SUMMARY:MIDWEEK MUSIC SCHOOL - Monday
DESCRIPTION:
URL:https://www.hounslowmusic.org.uk/event/monday-music-school-2023-07-10/2023-07-10/
LOCATION:Hounslow Music Service\, 64a Pears Rd\, London\, TW3 1SR\, United Kingdom
CATEGORIES:MUSIC SCHOOL
END:VEVENT
BEGIN:VEVENT
DTSTART;TZID=Europe/London:20230708T113000
DTEND;TZID=Europe/London:20230708T144500
DTSTAMP:20260419T165637
CREATED:20230512T120041Z
LAST-MODIFIED:20230512T121254Z
UID:4143-1688815800-1688827500@www.hounslowmusic.org.uk
SUMMARY:Concert Band @ Dean's Yard
DESCRIPTION:Hounslow Youth Concert Band are once again delighted to have been invited to be part of the ‘Westminster Choir School’ Summer Fair. \nThe band will be performing a wide range of music throughout the day; starting at 11.30 and finishing our final set at 2.45 \nWe look forward to seeing familiar faces there supporting the band.
URL:https://www.hounslowmusic.org.uk/event/concert-band-deans-yard/
LOCATION:Dean’s Yard\, Westminster\, SW1 3PB\, United Kingdom
CATEGORIES:CONCERT
END:VEVENT
BEGIN:VEVENT
DTSTART;TZID=Europe/London:20230527T140000
DTEND;TZID=Europe/London:20230527T170000
DTSTAMP:20260419T165637
CREATED:20230509T102239Z
LAST-MODIFIED:20230512T083633Z
UID:3458-1685196000-1685206800@www.hounslowmusic.org.uk
SUMMARY:Pop and Film Orchestra
DESCRIPTION:
URL:https://www.hounslowmusic.org.uk/event/pop-and-film-orchestra/2023-05-27/
LOCATION:Isleworth & Syon School\, Ridgeway Rd\, Isleworth\, TW7 5LJ\, United Kingdom
CATEGORIES:MUSIC EVENT
END:VEVENT
BEGIN:VEVENT
DTSTART;TZID=Europe/London:20230329T170000
DTEND;TZID=Europe/London:20230329T203000
DTSTAMP:20260419T165637
CREATED:20221010T101515Z
LAST-MODIFIED:20221010T101515Z
UID:1483-1680109200-1680121800@www.hounslowmusic.org.uk
SUMMARY:END OF TERM CONCERTS
DESCRIPTION:
URL:https://www.hounslowmusic.org.uk/event/end-of-term-concerts-3/
LOCATION:Hounslow Music Service\, 64a Pears Rd\, London\, TW3 1SR\, United Kingdom
CATEGORIES:MUSIC EVENT
END:VEVENT
BEGIN:VEVENT
DTSTART;TZID=Europe/London:20230328T190000
DTEND;TZID=Europe/London:20230328T200000
DTSTAMP:20260419T165637
CREATED:20221010T101152Z
LAST-MODIFIED:20221010T101152Z
UID:1461-1680030000-1680033600@www.hounslowmusic.org.uk
SUMMARY:HMS CHAMBER CONCERT
DESCRIPTION:
URL:https://www.hounslowmusic.org.uk/event/hms-chamber-concert-2/
LOCATION:Isleworth & Syon School\, Ridgeway Rd\, Isleworth\, TW7 5LJ\, United Kingdom
CATEGORIES:MUSIC EVENT
END:VEVENT
BEGIN:VEVENT
DTSTART;TZID=Europe/London:20230322T180000
DTEND;TZID=Europe/London:20230322T203000
DTSTAMP:20260419T165637
CREATED:20221010T100934Z
LAST-MODIFIED:20221010T100934Z
UID:1458-1679508000-1679517000@www.hounslowmusic.org.uk
SUMMARY:HYCB & YOUTH CHOIR @ CHISWICK SCHOOL
DESCRIPTION:
URL:https://www.hounslowmusic.org.uk/event/hycb-youth-choir-chiswick-school/
CATEGORIES:MUSIC EVENT
END:VEVENT
BEGIN:VEVENT
DTSTART;TZID=Europe/London:20221207T190000
DTEND;TZID=Europe/London:20221207T200000
DTSTAMP:20260419T165637
CREATED:20221010T094825Z
LAST-MODIFIED:20221010T094825Z
UID:1452-1670439600-1670443200@www.hounslowmusic.org.uk
SUMMARY:HMS CHAMBER CONCERT
DESCRIPTION:
URL:https://www.hounslowmusic.org.uk/event/hms-chamber-concert/
LOCATION:Isleworth & Syon School\, Ridgeway Rd\, Isleworth\, TW7 5LJ\, United Kingdom
CATEGORIES:MUSIC EVENT
END:VEVENT
BEGIN:VEVENT
DTSTART;TZID=Europe/London:20221130T170000
DTEND;TZID=Europe/London:20221130T203000
DTSTAMP:20260419T165637
CREATED:20221010T094533Z
LAST-MODIFIED:20221010T094533Z
UID:1416-1669827600-1669840200@www.hounslowmusic.org.uk
SUMMARY:END OF TERM CONCERTS
DESCRIPTION:
URL:https://www.hounslowmusic.org.uk/event/end-of-term-concerts/
LOCATION:Isleworth & Syon School\, Ridgeway Rd\, Isleworth\, TW7 5LJ\, United Kingdom
CATEGORIES:MUSIC EVENT
END:VEVENT
BEGIN:VEVENT
DTSTART;TZID=Europe/London:20220923T173000
DTEND;TZID=Europe/London:20220923T190000
DTSTAMP:20260419T165637
CREATED:20221010T094322Z
LAST-MODIFIED:20230209T154620Z
UID:1372-1663954200-1663959600@www.hounslowmusic.org.uk
SUMMARY:FRIDAY MUSIC CENTRE - Youth Strings
DESCRIPTION:
URL:https://www.hounslowmusic.org.uk/event/friday-music-centre/2022-09-23/
LOCATION:Hounslow Music Service\, 64a Pears Rd\, London\, TW3 1SR\, United Kingdom
CATEGORIES:MUSIC CENTRE
END:VEVENT
BEGIN:VEVENT
DTSTART;TZID=Europe/London:20220923T160000
DTEND;TZID=Europe/London:20220923T190000
DTSTAMP:20260419T165637
CREATED:20221010T094154Z
LAST-MODIFIED:20230209T160733Z
UID:1329-1663948800-1663959600@www.hounslowmusic.org.uk
SUMMARY:MIDWEEK MUSIC SCHOOL - Friday
DESCRIPTION:
URL:https://www.hounslowmusic.org.uk/event/friday-music-school/2022-09-23/
LOCATION:Hounslow Music Service\, 64a Pears Rd\, London\, TW3 1SR\, United Kingdom
CATEGORIES:MUSIC SCHOOL
END:VEVENT
BEGIN:VEVENT
DTSTART;TZID=Europe/London:20220922T160000
DTEND;TZID=Europe/London:20220922T200000
DTSTAMP:20260419T165637
CREATED:20221010T094034Z
LAST-MODIFIED:20230209T155258Z
UID:1286-1663862400-1663876800@www.hounslowmusic.org.uk
SUMMARY:MIDWEEK MUSIC SCHOOL - Thursday
DESCRIPTION:
URL:https://www.hounslowmusic.org.uk/event/thursday-music-school/2022-09-22/
LOCATION:Hounslow Music Service\, 64a Pears Rd\, London\, TW3 1SR\, United Kingdom
CATEGORIES:MUSIC SCHOOL
END:VEVENT
BEGIN:VEVENT
DTSTART;TZID=Europe/London:20220921T170000
DTEND;TZID=Europe/London:20220921T193000
DTSTAMP:20260419T165637
CREATED:20221010T093901Z
LAST-MODIFIED:20230209T154851Z
UID:1243-1663779600-1663788600@www.hounslowmusic.org.uk
SUMMARY:WEDNESDAY MUSIC CENTRE - Ensembles
DESCRIPTION:
URL:https://www.hounslowmusic.org.uk/event/wednesday-music-centre/2022-09-21/
LOCATION:Isleworth & Syon School\, Ridgeway Rd\, Isleworth\, TW7 5LJ\, United Kingdom
CATEGORIES:MUSIC CENTRE
END:VEVENT
BEGIN:VEVENT
DTSTART;TZID=Europe/London:20220921T160000
DTEND;TZID=Europe/London:20220921T200000
DTSTAMP:20260419T165637
CREATED:20221010T093010Z
LAST-MODIFIED:20230531T101533Z
UID:1200-1663776000-1663790400@www.hounslowmusic.org.uk
SUMMARY:MIDWEEK MUSIC SCHOOL - Wednesday
DESCRIPTION:
URL:https://www.hounslowmusic.org.uk/event/wednesday-music-school/2022-09-21/
LOCATION:Hounslow Music Service\, 64a Pears Rd\, London\, TW3 1SR\, United Kingdom
CATEGORIES:MUSIC SCHOOL
END:VEVENT
END:VCALENDAR