BEGIN:VCALENDAR
VERSION:2.0
PRODID:-//Hounslow Music Service | providing instrumental lessons for the borough&#039;s young people - ECPv5.16.4//NONSGML v1.0//EN
CALSCALE:GREGORIAN
METHOD:PUBLISH
X-ORIGINAL-URL:https://www.hounslowmusic.org.uk
X-WR-CALDESC:Events for Hounslow Music Service | providing instrumental lessons for the borough&#039;s young people
REFRESH-INTERVAL;VALUE=DURATION:PT1H
X-Robots-Tag:noindex
X-PUBLISHED-TTL:PT1H
BEGIN:VTIMEZONE
TZID:Europe/London
BEGIN:DAYLIGHT
TZOFFSETFROM:+0000
TZOFFSETTO:+0100
TZNAME:BST
DTSTART:20260329T010000
END:DAYLIGHT
BEGIN:STANDARD
TZOFFSETFROM:+0100
TZOFFSETTO:+0000
TZNAME:GMT
DTSTART:20261025T010000
END:STANDARD
END:VTIMEZONE
BEGIN:VEVENT
DTSTART;TZID=Europe/London:20260105T100000
DTEND;TZID=Europe/London:20261019T200000
DTSTAMP:20260420T011208
CREATED:20230512T090248Z
LAST-MODIFIED:20230512T090248Z
UID:71004-1767607200-1792440000@www.hounslowmusic.org.uk
SUMMARY:MIDWEEK MUSIC SCHOOL - Monday
DESCRIPTION:
URL:https://www.hounslowmusic.org.uk/event/midweek-music-school-monday/2026-01-05/
LOCATION:Hounslow Music Service\, 64a Pears Rd\, London\, TW3 1SR\, United Kingdom
CATEGORIES:MUSIC SCHOOL
END:VEVENT
BEGIN:VEVENT
DTSTART;TZID=Europe/London:20260107T100000
DTEND;TZID=Europe/London:20261021T200000
DTSTAMP:20260420T011208
CREATED:20230512T090843Z
LAST-MODIFIED:20230512T090843Z
UID:70951-1767780000-1792612800@www.hounslowmusic.org.uk
SUMMARY:MIDWEEK MUSIC SCHOOL - Wednesday
DESCRIPTION:
URL:https://www.hounslowmusic.org.uk/event/midweek-music-school-wednesday/2026-01-07/
LOCATION:Hounslow Music Service\, 64a Pears Rd\, London\, TW3 1SR\, United Kingdom
CATEGORIES:MUSIC SCHOOL
END:VEVENT
BEGIN:VEVENT
DTSTART;TZID=Europe/London:20260107T170000
DTEND;TZID=Europe/London:20261014T193000
DTSTAMP:20260420T011208
CREATED:20230512T091338Z
LAST-MODIFIED:20230512T091338Z
UID:70722-1767805200-1792006200@www.hounslowmusic.org.uk
SUMMARY:WEDNESDAY MUSIC CENTRE - Ensembles
DESCRIPTION:
URL:https://www.hounslowmusic.org.uk/event/wednesday-music-centre-ensembles/2026-01-07/
LOCATION:Isleworth & Syon School\, Ridgeway Rd\, Isleworth\, TW7 5LJ\, United Kingdom
CATEGORIES:MUSIC CENTRE
END:VEVENT
BEGIN:VEVENT
DTSTART;TZID=Europe/London:20260108T100000
DTEND;TZID=Europe/London:20261022T200000
DTSTAMP:20260420T011208
CREATED:20230512T091917Z
LAST-MODIFIED:20250709T192941Z
UID:70823-1767866400-1792699200@www.hounslowmusic.org.uk
SUMMARY:MIDWEEK MUSIC SCHOOL - Thursday
DESCRIPTION:
URL:https://www.hounslowmusic.org.uk/event/midweek-music-school-thursday/2026-01-08/
LOCATION:Hounslow Music Service\, 64a Pears Rd\, London\, TW3 1SR\, United Kingdom
CATEGORIES:MUSIC SCHOOL
END:VEVENT
BEGIN:VEVENT
DTSTART;TZID=Europe/London:20260109T100000
DTEND;TZID=Europe/London:20261023T200000
DTSTAMP:20260420T011208
CREATED:20230512T092416Z
LAST-MODIFIED:20250709T194322Z
UID:70881-1767952800-1792785600@www.hounslowmusic.org.uk
SUMMARY:MIDWEEK MUSIC SCHOOL - Friday
DESCRIPTION:
URL:https://www.hounslowmusic.org.uk/event/midweek-music-school-friday/2026-01-09/
CATEGORIES:MUSIC SCHOOL
END:VEVENT
BEGIN:VEVENT
DTSTART;TZID=Europe/London:20260109T173000
DTEND;TZID=Europe/London:20261016T190000
DTSTAMP:20260420T011208
CREATED:20230512T093906Z
LAST-MODIFIED:20250709T012646Z
UID:70651-1767979800-1792177200@www.hounslowmusic.org.uk
SUMMARY:FRIDAY MUSIC CENTRE - Youth Strings
DESCRIPTION:
URL:https://www.hounslowmusic.org.uk/event/friday-music-centre-youth-strings/2026-01-09/
LOCATION:Hounslow Music Service\, 64a Pears Rd\, London\, TW3 1SR\, United Kingdom
CATEGORIES:MUSIC CENTRE
END:VEVENT
BEGIN:VEVENT
DTSTART;TZID=Europe/London:20260110T083000
DTEND;TZID=Europe/London:20261024T123000
DTSTAMP:20260420T011208
CREATED:20230512T094753Z
LAST-MODIFIED:20230512T094753Z
UID:70693-1768033800-1792845000@www.hounslowmusic.org.uk
SUMMARY:SATURDAY MUSIC ACADEMY
DESCRIPTION:
URL:https://www.hounslowmusic.org.uk/event/music-academy/2026-01-10/
LOCATION:Hounslow Town Primary School\, School Rd\, London\, TW3 1QZ\, United Kingdom
CATEGORIES:MUSIC ACADEMY
END:VEVENT
BEGIN:VEVENT
DTSTART;TZID=Europe/London:20260112T100000
DTEND;TZID=Europe/London:20261026T200000
DTSTAMP:20260420T011208
CREATED:20230512T090248Z
LAST-MODIFIED:20230512T090248Z
UID:71005-1768212000-1793044800@www.hounslowmusic.org.uk
SUMMARY:MIDWEEK MUSIC SCHOOL - Monday
DESCRIPTION:
URL:https://www.hounslowmusic.org.uk/event/midweek-music-school-monday/2026-01-12/
LOCATION:Hounslow Music Service\, 64a Pears Rd\, London\, TW3 1SR\, United Kingdom
CATEGORIES:MUSIC SCHOOL
END:VEVENT
BEGIN:VEVENT
DTSTART;TZID=Europe/London:20260114T100000
DTEND;TZID=Europe/London:20261028T200000
DTSTAMP:20260420T011208
CREATED:20230512T090843Z
LAST-MODIFIED:20230512T090843Z
UID:70952-1768384800-1793217600@www.hounslowmusic.org.uk
SUMMARY:MIDWEEK MUSIC SCHOOL - Wednesday
DESCRIPTION:
URL:https://www.hounslowmusic.org.uk/event/midweek-music-school-wednesday/2026-01-14/
LOCATION:Hounslow Music Service\, 64a Pears Rd\, London\, TW3 1SR\, United Kingdom
CATEGORIES:MUSIC SCHOOL
END:VEVENT
BEGIN:VEVENT
DTSTART;TZID=Europe/London:20260114T170000
DTEND;TZID=Europe/London:20261021T193000
DTSTAMP:20260420T011208
CREATED:20230512T091338Z
LAST-MODIFIED:20230512T091338Z
UID:70723-1768410000-1792611000@www.hounslowmusic.org.uk
SUMMARY:WEDNESDAY MUSIC CENTRE - Ensembles
DESCRIPTION:
URL:https://www.hounslowmusic.org.uk/event/wednesday-music-centre-ensembles/2026-01-14/
LOCATION:Isleworth & Syon School\, Ridgeway Rd\, Isleworth\, TW7 5LJ\, United Kingdom
CATEGORIES:MUSIC CENTRE
END:VEVENT
BEGIN:VEVENT
DTSTART;TZID=Europe/London:20260115T100000
DTEND;TZID=Europe/London:20261029T200000
DTSTAMP:20260420T011208
CREATED:20230512T091917Z
LAST-MODIFIED:20250709T192946Z
UID:70824-1768471200-1793304000@www.hounslowmusic.org.uk
SUMMARY:MIDWEEK MUSIC SCHOOL - Thursday
DESCRIPTION:
URL:https://www.hounslowmusic.org.uk/event/midweek-music-school-thursday/2026-01-15/
LOCATION:Hounslow Music Service\, 64a Pears Rd\, London\, TW3 1SR\, United Kingdom
CATEGORIES:MUSIC SCHOOL
END:VEVENT
BEGIN:VEVENT
DTSTART;TZID=Europe/London:20260116T100000
DTEND;TZID=Europe/London:20261030T200000
DTSTAMP:20260420T011208
CREATED:20230512T092416Z
LAST-MODIFIED:20250709T194326Z
UID:70882-1768557600-1793390400@www.hounslowmusic.org.uk
SUMMARY:MIDWEEK MUSIC SCHOOL - Friday
DESCRIPTION:
URL:https://www.hounslowmusic.org.uk/event/midweek-music-school-friday/2026-01-16/
CATEGORIES:MUSIC SCHOOL
END:VEVENT
BEGIN:VEVENT
DTSTART;TZID=Europe/London:20260116T173000
DTEND;TZID=Europe/London:20261023T190000
DTSTAMP:20260420T011208
CREATED:20230512T093906Z
LAST-MODIFIED:20250709T012646Z
UID:70652-1768584600-1792782000@www.hounslowmusic.org.uk
SUMMARY:FRIDAY MUSIC CENTRE - Youth Strings
DESCRIPTION:
URL:https://www.hounslowmusic.org.uk/event/friday-music-centre-youth-strings/2026-01-16/
LOCATION:Hounslow Music Service\, 64a Pears Rd\, London\, TW3 1SR\, United Kingdom
CATEGORIES:MUSIC CENTRE
END:VEVENT
BEGIN:VEVENT
DTSTART;TZID=Europe/London:20260117T083000
DTEND;TZID=Europe/London:20261031T123000
DTSTAMP:20260420T011208
CREATED:20230512T094753Z
LAST-MODIFIED:20230512T094753Z
UID:70694-1768638600-1793449800@www.hounslowmusic.org.uk
SUMMARY:SATURDAY MUSIC ACADEMY
DESCRIPTION:
URL:https://www.hounslowmusic.org.uk/event/music-academy/2026-01-17/
LOCATION:Hounslow Town Primary School\, School Rd\, London\, TW3 1QZ\, United Kingdom
CATEGORIES:MUSIC ACADEMY
END:VEVENT
BEGIN:VEVENT
DTSTART;TZID=Europe/London:20260119T100000
DTEND;TZID=Europe/London:20261102T200000
DTSTAMP:20260420T011208
CREATED:20230512T090248Z
LAST-MODIFIED:20230512T090248Z
UID:71006-1768816800-1793649600@www.hounslowmusic.org.uk
SUMMARY:MIDWEEK MUSIC SCHOOL - Monday
DESCRIPTION:
URL:https://www.hounslowmusic.org.uk/event/midweek-music-school-monday/2026-01-19/
LOCATION:Hounslow Music Service\, 64a Pears Rd\, London\, TW3 1SR\, United Kingdom
CATEGORIES:MUSIC SCHOOL
END:VEVENT
BEGIN:VEVENT
DTSTART;TZID=Europe/London:20260121T100000
DTEND;TZID=Europe/London:20261104T200000
DTSTAMP:20260420T011208
CREATED:20230512T090843Z
LAST-MODIFIED:20230512T090843Z
UID:70953-1768989600-1793822400@www.hounslowmusic.org.uk
SUMMARY:MIDWEEK MUSIC SCHOOL - Wednesday
DESCRIPTION:
URL:https://www.hounslowmusic.org.uk/event/midweek-music-school-wednesday/2026-01-21/
LOCATION:Hounslow Music Service\, 64a Pears Rd\, London\, TW3 1SR\, United Kingdom
CATEGORIES:MUSIC SCHOOL
END:VEVENT
BEGIN:VEVENT
DTSTART;TZID=Europe/London:20260121T170000
DTEND;TZID=Europe/London:20261028T193000
DTSTAMP:20260420T011208
CREATED:20230512T091338Z
LAST-MODIFIED:20230512T091338Z
UID:70724-1769014800-1793215800@www.hounslowmusic.org.uk
SUMMARY:WEDNESDAY MUSIC CENTRE - Ensembles
DESCRIPTION:
URL:https://www.hounslowmusic.org.uk/event/wednesday-music-centre-ensembles/2026-01-21/
LOCATION:Isleworth & Syon School\, Ridgeway Rd\, Isleworth\, TW7 5LJ\, United Kingdom
CATEGORIES:MUSIC CENTRE
END:VEVENT
BEGIN:VEVENT
DTSTART;TZID=Europe/London:20260122T100000
DTEND;TZID=Europe/London:20261105T200000
DTSTAMP:20260420T011208
CREATED:20230512T091917Z
LAST-MODIFIED:20250709T192946Z
UID:70825-1769076000-1793908800@www.hounslowmusic.org.uk
SUMMARY:MIDWEEK MUSIC SCHOOL - Thursday
DESCRIPTION:
URL:https://www.hounslowmusic.org.uk/event/midweek-music-school-thursday/2026-01-22/
LOCATION:Hounslow Music Service\, 64a Pears Rd\, London\, TW3 1SR\, United Kingdom
CATEGORIES:MUSIC SCHOOL
END:VEVENT
BEGIN:VEVENT
DTSTART;TZID=Europe/London:20260123T100000
DTEND;TZID=Europe/London:20261106T200000
DTSTAMP:20260420T011208
CREATED:20230512T092416Z
LAST-MODIFIED:20250709T194326Z
UID:70883-1769162400-1793995200@www.hounslowmusic.org.uk
SUMMARY:MIDWEEK MUSIC SCHOOL - Friday
DESCRIPTION:
URL:https://www.hounslowmusic.org.uk/event/midweek-music-school-friday/2026-01-23/
CATEGORIES:MUSIC SCHOOL
END:VEVENT
BEGIN:VEVENT
DTSTART;TZID=Europe/London:20260123T173000
DTEND;TZID=Europe/London:20261030T190000
DTSTAMP:20260420T011208
CREATED:20230512T093906Z
LAST-MODIFIED:20250709T012646Z
UID:70653-1769189400-1793386800@www.hounslowmusic.org.uk
SUMMARY:FRIDAY MUSIC CENTRE - Youth Strings
DESCRIPTION:
URL:https://www.hounslowmusic.org.uk/event/friday-music-centre-youth-strings/2026-01-23/
LOCATION:Hounslow Music Service\, 64a Pears Rd\, London\, TW3 1SR\, United Kingdom
CATEGORIES:MUSIC CENTRE
END:VEVENT
BEGIN:VEVENT
DTSTART;TZID=Europe/London:20260124T083000
DTEND;TZID=Europe/London:20261107T123000
DTSTAMP:20260420T011208
CREATED:20230512T094753Z
LAST-MODIFIED:20230512T094753Z
UID:70695-1769243400-1794054600@www.hounslowmusic.org.uk
SUMMARY:SATURDAY MUSIC ACADEMY
DESCRIPTION:
URL:https://www.hounslowmusic.org.uk/event/music-academy/2026-01-24/
LOCATION:Hounslow Town Primary School\, School Rd\, London\, TW3 1QZ\, United Kingdom
CATEGORIES:MUSIC ACADEMY
END:VEVENT
BEGIN:VEVENT
DTSTART;TZID=Europe/London:20260126T100000
DTEND;TZID=Europe/London:20261109T200000
DTSTAMP:20260420T011208
CREATED:20230512T090248Z
LAST-MODIFIED:20230512T090248Z
UID:71007-1769421600-1794254400@www.hounslowmusic.org.uk
SUMMARY:MIDWEEK MUSIC SCHOOL - Monday
DESCRIPTION:
URL:https://www.hounslowmusic.org.uk/event/midweek-music-school-monday/2026-01-26/
LOCATION:Hounslow Music Service\, 64a Pears Rd\, London\, TW3 1SR\, United Kingdom
CATEGORIES:MUSIC SCHOOL
END:VEVENT
BEGIN:VEVENT
DTSTART;TZID=Europe/London:20260128T100000
DTEND;TZID=Europe/London:20261111T200000
DTSTAMP:20260420T011208
CREATED:20230512T090843Z
LAST-MODIFIED:20230512T090843Z
UID:70954-1769594400-1794427200@www.hounslowmusic.org.uk
SUMMARY:MIDWEEK MUSIC SCHOOL - Wednesday
DESCRIPTION:
URL:https://www.hounslowmusic.org.uk/event/midweek-music-school-wednesday/2026-01-28/
LOCATION:Hounslow Music Service\, 64a Pears Rd\, London\, TW3 1SR\, United Kingdom
CATEGORIES:MUSIC SCHOOL
END:VEVENT
BEGIN:VEVENT
DTSTART;TZID=Europe/London:20260128T170000
DTEND;TZID=Europe/London:20261104T193000
DTSTAMP:20260420T011208
CREATED:20230512T091338Z
LAST-MODIFIED:20230512T091338Z
UID:70725-1769619600-1793820600@www.hounslowmusic.org.uk
SUMMARY:WEDNESDAY MUSIC CENTRE - Ensembles
DESCRIPTION:
URL:https://www.hounslowmusic.org.uk/event/wednesday-music-centre-ensembles/2026-01-28/
LOCATION:Isleworth & Syon School\, Ridgeway Rd\, Isleworth\, TW7 5LJ\, United Kingdom
CATEGORIES:MUSIC CENTRE
END:VEVENT
BEGIN:VEVENT
DTSTART;TZID=Europe/London:20260129T100000
DTEND;TZID=Europe/London:20261112T200000
DTSTAMP:20260420T011208
CREATED:20230512T091917Z
LAST-MODIFIED:20250709T192946Z
UID:70826-1769680800-1794513600@www.hounslowmusic.org.uk
SUMMARY:MIDWEEK MUSIC SCHOOL - Thursday
DESCRIPTION:
URL:https://www.hounslowmusic.org.uk/event/midweek-music-school-thursday/2026-01-29/
LOCATION:Hounslow Music Service\, 64a Pears Rd\, London\, TW3 1SR\, United Kingdom
CATEGORIES:MUSIC SCHOOL
END:VEVENT
BEGIN:VEVENT
DTSTART;TZID=Europe/London:20260130T100000
DTEND;TZID=Europe/London:20261113T200000
DTSTAMP:20260420T011208
CREATED:20230512T092416Z
LAST-MODIFIED:20250709T194327Z
UID:70884-1769767200-1794600000@www.hounslowmusic.org.uk
SUMMARY:MIDWEEK MUSIC SCHOOL - Friday
DESCRIPTION:
URL:https://www.hounslowmusic.org.uk/event/midweek-music-school-friday/2026-01-30/
CATEGORIES:MUSIC SCHOOL
END:VEVENT
BEGIN:VEVENT
DTSTART;TZID=Europe/London:20260130T173000
DTEND;TZID=Europe/London:20261106T190000
DTSTAMP:20260420T011208
CREATED:20230512T093906Z
LAST-MODIFIED:20250709T012646Z
UID:70654-1769794200-1793991600@www.hounslowmusic.org.uk
SUMMARY:FRIDAY MUSIC CENTRE - Youth Strings
DESCRIPTION:
URL:https://www.hounslowmusic.org.uk/event/friday-music-centre-youth-strings/2026-01-30/
LOCATION:Hounslow Music Service\, 64a Pears Rd\, London\, TW3 1SR\, United Kingdom
CATEGORIES:MUSIC CENTRE
END:VEVENT
BEGIN:VEVENT
DTSTART;TZID=Europe/London:20260131T083000
DTEND;TZID=Europe/London:20261114T123000
DTSTAMP:20260420T011208
CREATED:20230512T094753Z
LAST-MODIFIED:20230512T094753Z
UID:70696-1769848200-1794659400@www.hounslowmusic.org.uk
SUMMARY:SATURDAY MUSIC ACADEMY
DESCRIPTION:
URL:https://www.hounslowmusic.org.uk/event/music-academy/2026-01-31/
LOCATION:Hounslow Town Primary School\, School Rd\, London\, TW3 1QZ\, United Kingdom
CATEGORIES:MUSIC ACADEMY
END:VEVENT
BEGIN:VEVENT
DTSTART;TZID=Europe/London:20260202T100000
DTEND;TZID=Europe/London:20261116T200000
DTSTAMP:20260420T011208
CREATED:20230512T090248Z
LAST-MODIFIED:20230512T090248Z
UID:71008-1770026400-1794859200@www.hounslowmusic.org.uk
SUMMARY:MIDWEEK MUSIC SCHOOL - Monday
DESCRIPTION:
URL:https://www.hounslowmusic.org.uk/event/midweek-music-school-monday/2026-02-02/
LOCATION:Hounslow Music Service\, 64a Pears Rd\, London\, TW3 1SR\, United Kingdom
CATEGORIES:MUSIC SCHOOL
END:VEVENT
BEGIN:VEVENT
DTSTART;TZID=Europe/London:20260204T100000
DTEND;TZID=Europe/London:20261118T200000
DTSTAMP:20260420T011208
CREATED:20230512T090843Z
LAST-MODIFIED:20230512T090843Z
UID:70955-1770199200-1795032000@www.hounslowmusic.org.uk
SUMMARY:MIDWEEK MUSIC SCHOOL - Wednesday
DESCRIPTION:
URL:https://www.hounslowmusic.org.uk/event/midweek-music-school-wednesday/2026-02-04/
LOCATION:Hounslow Music Service\, 64a Pears Rd\, London\, TW3 1SR\, United Kingdom
CATEGORIES:MUSIC SCHOOL
END:VEVENT
END:VCALENDAR