BEGIN:VCALENDAR
VERSION:2.0
PRODID:-//Hounslow Music Service | providing instrumental lessons for the borough&#039;s young people - ECPv5.16.4//NONSGML v1.0//EN
CALSCALE:GREGORIAN
METHOD:PUBLISH
X-WR-CALNAME:Hounslow Music Service | providing instrumental lessons for the borough&#039;s young people
X-ORIGINAL-URL:https://www.hounslowmusic.org.uk
X-WR-CALDESC:Events for Hounslow Music Service | providing instrumental lessons for the borough&#039;s young people
REFRESH-INTERVAL;VALUE=DURATION:PT1H
X-Robots-Tag:noindex
X-PUBLISHED-TTL:PT1H
BEGIN:VTIMEZONE
TZID:Europe/London
BEGIN:DAYLIGHT
TZOFFSETFROM:+0000
TZOFFSETTO:+0100
TZNAME:BST
DTSTART:20260329T010000
END:DAYLIGHT
BEGIN:STANDARD
TZOFFSETFROM:+0100
TZOFFSETTO:+0000
TZNAME:GMT
DTSTART:20261025T010000
END:STANDARD
BEGIN:DAYLIGHT
TZOFFSETFROM:+0000
TZOFFSETTO:+0100
TZNAME:BST
DTSTART:20270328T010000
END:DAYLIGHT
BEGIN:STANDARD
TZOFFSETFROM:+0100
TZOFFSETTO:+0000
TZNAME:GMT
DTSTART:20271031T010000
END:STANDARD
END:VTIMEZONE
BEGIN:VEVENT
DTSTART;TZID=Europe/London:20260515T173000
DTEND;TZID=Europe/London:20270219T190000
DTSTAMP:20260419T225709
CREATED:20230512T093906Z
LAST-MODIFIED:20250709T012653Z
UID:70664-1778866200-1803063600@www.hounslowmusic.org.uk
SUMMARY:FRIDAY MUSIC CENTRE - Youth Strings
DESCRIPTION:
URL:https://www.hounslowmusic.org.uk/event/friday-music-centre-youth-strings/2026-05-15/
LOCATION:Hounslow Music Service\, 64a Pears Rd\, London\, TW3 1SR\, United Kingdom
CATEGORIES:MUSIC CENTRE
END:VEVENT
BEGIN:VEVENT
DTSTART;TZID=Europe/London:20260518T100000
DTEND;TZID=Europe/London:20270301T200000
DTSTAMP:20260419T225709
CREATED:20230512T090248Z
LAST-MODIFIED:20230512T090248Z
UID:71018-1779098400-1803931200@www.hounslowmusic.org.uk
SUMMARY:MIDWEEK MUSIC SCHOOL - Monday
DESCRIPTION:
URL:https://www.hounslowmusic.org.uk/event/midweek-music-school-monday/2026-05-18/
LOCATION:Hounslow Music Service\, 64a Pears Rd\, London\, TW3 1SR\, United Kingdom
CATEGORIES:MUSIC SCHOOL
END:VEVENT
BEGIN:VEVENT
DTSTART;TZID=Europe/London:20260601T100000
DTEND;TZID=Europe/London:20270315T200000
DTSTAMP:20260419T225709
CREATED:20230512T090248Z
LAST-MODIFIED:20230512T090248Z
UID:71019-1780308000-1805140800@www.hounslowmusic.org.uk
SUMMARY:MIDWEEK MUSIC SCHOOL - Monday
DESCRIPTION:
URL:https://www.hounslowmusic.org.uk/event/midweek-music-school-monday/2026-06-01/
LOCATION:Hounslow Music Service\, 64a Pears Rd\, London\, TW3 1SR\, United Kingdom
CATEGORIES:MUSIC SCHOOL
END:VEVENT
BEGIN:VEVENT
DTSTART;TZID=Europe/London:20260603T100000
DTEND;TZID=Europe/London:20270317T200000
DTSTAMP:20260419T225709
CREATED:20230512T090843Z
LAST-MODIFIED:20230512T090843Z
UID:70966-1780480800-1805313600@www.hounslowmusic.org.uk
SUMMARY:MIDWEEK MUSIC SCHOOL - Wednesday
DESCRIPTION:
URL:https://www.hounslowmusic.org.uk/event/midweek-music-school-wednesday/2026-06-03/
LOCATION:Hounslow Music Service\, 64a Pears Rd\, London\, TW3 1SR\, United Kingdom
CATEGORIES:MUSIC SCHOOL
END:VEVENT
BEGIN:VEVENT
DTSTART;TZID=Europe/London:20260604T100000
DTEND;TZID=Europe/London:20270318T200000
DTSTAMP:20260419T225709
CREATED:20230512T091917Z
LAST-MODIFIED:20250709T192952Z
UID:70838-1780567200-1805400000@www.hounslowmusic.org.uk
SUMMARY:MIDWEEK MUSIC SCHOOL - Thursday
DESCRIPTION:
URL:https://www.hounslowmusic.org.uk/event/midweek-music-school-thursday/2026-06-04/
LOCATION:Hounslow Music Service\, 64a Pears Rd\, London\, TW3 1SR\, United Kingdom
CATEGORIES:MUSIC SCHOOL
END:VEVENT
BEGIN:VEVENT
DTSTART;TZID=Europe/London:20260605T173000
DTEND;TZID=Europe/London:20270312T190000
DTSTAMP:20260419T225709
CREATED:20230512T093906Z
LAST-MODIFIED:20250709T012654Z
UID:70665-1780680600-1804878000@www.hounslowmusic.org.uk
SUMMARY:FRIDAY MUSIC CENTRE - Youth Strings
DESCRIPTION:
URL:https://www.hounslowmusic.org.uk/event/friday-music-centre-youth-strings/2026-06-05/
LOCATION:Hounslow Music Service\, 64a Pears Rd\, London\, TW3 1SR\, United Kingdom
CATEGORIES:MUSIC CENTRE
END:VEVENT
BEGIN:VEVENT
DTSTART;TZID=Europe/London:20260608T100000
DTEND;TZID=Europe/London:20270322T200000
DTSTAMP:20260419T225709
CREATED:20230512T090248Z
LAST-MODIFIED:20230512T090248Z
UID:71020-1780912800-1805745600@www.hounslowmusic.org.uk
SUMMARY:MIDWEEK MUSIC SCHOOL - Monday
DESCRIPTION:
URL:https://www.hounslowmusic.org.uk/event/midweek-music-school-monday/2026-06-08/
LOCATION:Hounslow Music Service\, 64a Pears Rd\, London\, TW3 1SR\, United Kingdom
CATEGORIES:MUSIC SCHOOL
END:VEVENT
BEGIN:VEVENT
DTSTART;TZID=Europe/London:20260610T100000
DTEND;TZID=Europe/London:20270324T200000
DTSTAMP:20260419T225709
CREATED:20230512T090843Z
LAST-MODIFIED:20230512T090843Z
UID:70967-1781085600-1805918400@www.hounslowmusic.org.uk
SUMMARY:MIDWEEK MUSIC SCHOOL - Wednesday
DESCRIPTION:
URL:https://www.hounslowmusic.org.uk/event/midweek-music-school-wednesday/2026-06-10/
LOCATION:Hounslow Music Service\, 64a Pears Rd\, London\, TW3 1SR\, United Kingdom
CATEGORIES:MUSIC SCHOOL
END:VEVENT
BEGIN:VEVENT
DTSTART;TZID=Europe/London:20260611T100000
DTEND;TZID=Europe/London:20270325T200000
DTSTAMP:20260419T225709
CREATED:20230512T091917Z
LAST-MODIFIED:20250709T192952Z
UID:70839-1781172000-1806004800@www.hounslowmusic.org.uk
SUMMARY:MIDWEEK MUSIC SCHOOL - Thursday
DESCRIPTION:
URL:https://www.hounslowmusic.org.uk/event/midweek-music-school-thursday/2026-06-11/
LOCATION:Hounslow Music Service\, 64a Pears Rd\, London\, TW3 1SR\, United Kingdom
CATEGORIES:MUSIC SCHOOL
END:VEVENT
BEGIN:VEVENT
DTSTART;TZID=Europe/London:20260612T173000
DTEND;TZID=Europe/London:20270319T190000
DTSTAMP:20260419T225709
CREATED:20230512T093906Z
LAST-MODIFIED:20250709T012654Z
UID:70666-1781285400-1805482800@www.hounslowmusic.org.uk
SUMMARY:FRIDAY MUSIC CENTRE - Youth Strings
DESCRIPTION:
URL:https://www.hounslowmusic.org.uk/event/friday-music-centre-youth-strings/2026-06-12/
LOCATION:Hounslow Music Service\, 64a Pears Rd\, London\, TW3 1SR\, United Kingdom
CATEGORIES:MUSIC CENTRE
END:VEVENT
BEGIN:VEVENT
DTSTART;TZID=Europe/London:20260615T100000
DTEND;TZID=Europe/London:20270329T200000
DTSTAMP:20260419T225709
CREATED:20230512T090248Z
LAST-MODIFIED:20230512T090248Z
UID:71021-1781517600-1806350400@www.hounslowmusic.org.uk
SUMMARY:MIDWEEK MUSIC SCHOOL - Monday
DESCRIPTION:
URL:https://www.hounslowmusic.org.uk/event/midweek-music-school-monday/2026-06-15/
LOCATION:Hounslow Music Service\, 64a Pears Rd\, London\, TW3 1SR\, United Kingdom
CATEGORIES:MUSIC SCHOOL
END:VEVENT
BEGIN:VEVENT
DTSTART;TZID=Europe/London:20260617T100000
DTEND;TZID=Europe/London:20270331T200000
DTSTAMP:20260419T225709
CREATED:20230512T090843Z
LAST-MODIFIED:20230512T090843Z
UID:70968-1781690400-1806523200@www.hounslowmusic.org.uk
SUMMARY:MIDWEEK MUSIC SCHOOL - Wednesday
DESCRIPTION:
URL:https://www.hounslowmusic.org.uk/event/midweek-music-school-wednesday/2026-06-17/
LOCATION:Hounslow Music Service\, 64a Pears Rd\, London\, TW3 1SR\, United Kingdom
CATEGORIES:MUSIC SCHOOL
END:VEVENT
BEGIN:VEVENT
DTSTART;TZID=Europe/London:20260618T100000
DTEND;TZID=Europe/London:20270401T200000
DTSTAMP:20260419T225709
CREATED:20230512T091917Z
LAST-MODIFIED:20250709T192952Z
UID:70840-1781776800-1806609600@www.hounslowmusic.org.uk
SUMMARY:MIDWEEK MUSIC SCHOOL - Thursday
DESCRIPTION:
URL:https://www.hounslowmusic.org.uk/event/midweek-music-school-thursday/2026-06-18/
LOCATION:Hounslow Music Service\, 64a Pears Rd\, London\, TW3 1SR\, United Kingdom
CATEGORIES:MUSIC SCHOOL
END:VEVENT
BEGIN:VEVENT
DTSTART;TZID=Europe/London:20260619T173000
DTEND;TZID=Europe/London:20270326T190000
DTSTAMP:20260419T225709
CREATED:20230512T093906Z
LAST-MODIFIED:20250709T012654Z
UID:70667-1781890200-1806087600@www.hounslowmusic.org.uk
SUMMARY:FRIDAY MUSIC CENTRE - Youth Strings
DESCRIPTION:
URL:https://www.hounslowmusic.org.uk/event/friday-music-centre-youth-strings/2026-06-19/
LOCATION:Hounslow Music Service\, 64a Pears Rd\, London\, TW3 1SR\, United Kingdom
CATEGORIES:MUSIC CENTRE
END:VEVENT
BEGIN:VEVENT
DTSTART;TZID=Europe/London:20260622T100000
DTEND;TZID=Europe/London:20270405T200000
DTSTAMP:20260419T225709
CREATED:20230512T090248Z
LAST-MODIFIED:20230512T090248Z
UID:71022-1782122400-1806955200@www.hounslowmusic.org.uk
SUMMARY:MIDWEEK MUSIC SCHOOL - Monday
DESCRIPTION:
URL:https://www.hounslowmusic.org.uk/event/midweek-music-school-monday/2026-06-22/
LOCATION:Hounslow Music Service\, 64a Pears Rd\, London\, TW3 1SR\, United Kingdom
CATEGORIES:MUSIC SCHOOL
END:VEVENT
BEGIN:VEVENT
DTSTART;TZID=Europe/London:20260624T100000
DTEND;TZID=Europe/London:20270407T200000
DTSTAMP:20260419T225709
CREATED:20230512T090843Z
LAST-MODIFIED:20230512T090843Z
UID:70969-1782295200-1807128000@www.hounslowmusic.org.uk
SUMMARY:MIDWEEK MUSIC SCHOOL - Wednesday
DESCRIPTION:
URL:https://www.hounslowmusic.org.uk/event/midweek-music-school-wednesday/2026-06-24/
LOCATION:Hounslow Music Service\, 64a Pears Rd\, London\, TW3 1SR\, United Kingdom
CATEGORIES:MUSIC SCHOOL
END:VEVENT
BEGIN:VEVENT
DTSTART;TZID=Europe/London:20260625T100000
DTEND;TZID=Europe/London:20270408T200000
DTSTAMP:20260419T225709
CREATED:20230512T091917Z
LAST-MODIFIED:20250709T192952Z
UID:70841-1782381600-1807214400@www.hounslowmusic.org.uk
SUMMARY:MIDWEEK MUSIC SCHOOL - Thursday
DESCRIPTION:
URL:https://www.hounslowmusic.org.uk/event/midweek-music-school-thursday/2026-06-25/
LOCATION:Hounslow Music Service\, 64a Pears Rd\, London\, TW3 1SR\, United Kingdom
CATEGORIES:MUSIC SCHOOL
END:VEVENT
BEGIN:VEVENT
DTSTART;TZID=Europe/London:20260626T173000
DTEND;TZID=Europe/London:20270402T190000
DTSTAMP:20260419T225709
CREATED:20230512T093906Z
LAST-MODIFIED:20250709T012654Z
UID:70668-1782495000-1806692400@www.hounslowmusic.org.uk
SUMMARY:FRIDAY MUSIC CENTRE - Youth Strings
DESCRIPTION:
URL:https://www.hounslowmusic.org.uk/event/friday-music-centre-youth-strings/2026-06-26/
LOCATION:Hounslow Music Service\, 64a Pears Rd\, London\, TW3 1SR\, United Kingdom
CATEGORIES:MUSIC CENTRE
END:VEVENT
BEGIN:VEVENT
DTSTART;TZID=Europe/London:20260629T100000
DTEND;TZID=Europe/London:20270412T200000
DTSTAMP:20260419T225709
CREATED:20230512T090248Z
LAST-MODIFIED:20230512T090248Z
UID:71023-1782727200-1807560000@www.hounslowmusic.org.uk
SUMMARY:MIDWEEK MUSIC SCHOOL - Monday
DESCRIPTION:
URL:https://www.hounslowmusic.org.uk/event/midweek-music-school-monday/2026-06-29/
LOCATION:Hounslow Music Service\, 64a Pears Rd\, London\, TW3 1SR\, United Kingdom
CATEGORIES:MUSIC SCHOOL
END:VEVENT
BEGIN:VEVENT
DTSTART;TZID=Europe/London:20260701T100000
DTEND;TZID=Europe/London:20270414T200000
DTSTAMP:20260419T225709
CREATED:20230512T090843Z
LAST-MODIFIED:20230512T090843Z
UID:70970-1782900000-1807732800@www.hounslowmusic.org.uk
SUMMARY:MIDWEEK MUSIC SCHOOL - Wednesday
DESCRIPTION:
URL:https://www.hounslowmusic.org.uk/event/midweek-music-school-wednesday/2026-07-01/
LOCATION:Hounslow Music Service\, 64a Pears Rd\, London\, TW3 1SR\, United Kingdom
CATEGORIES:MUSIC SCHOOL
END:VEVENT
BEGIN:VEVENT
DTSTART;TZID=Europe/London:20260702T100000
DTEND;TZID=Europe/London:20270415T200000
DTSTAMP:20260419T225709
CREATED:20230512T091917Z
LAST-MODIFIED:20250709T192952Z
UID:70842-1782986400-1807819200@www.hounslowmusic.org.uk
SUMMARY:MIDWEEK MUSIC SCHOOL - Thursday
DESCRIPTION:
URL:https://www.hounslowmusic.org.uk/event/midweek-music-school-thursday/2026-07-02/
LOCATION:Hounslow Music Service\, 64a Pears Rd\, London\, TW3 1SR\, United Kingdom
CATEGORIES:MUSIC SCHOOL
END:VEVENT
END:VCALENDAR