BEGIN:VCALENDAR
VERSION:2.0
PRODID:-//Hounslow Music Service | providing instrumental lessons for the borough&#039;s young people - ECPv5.16.4//NONSGML v1.0//EN
CALSCALE:GREGORIAN
METHOD:PUBLISH
X-ORIGINAL-URL:https://www.hounslowmusic.org.uk
X-WR-CALDESC:Events for Hounslow Music Service | providing instrumental lessons for the borough&#039;s young people
REFRESH-INTERVAL;VALUE=DURATION:PT1H
X-Robots-Tag:noindex
X-PUBLISHED-TTL:PT1H
BEGIN:VTIMEZONE
TZID:Europe/London
BEGIN:DAYLIGHT
TZOFFSETFROM:+0000
TZOFFSETTO:+0100
TZNAME:BST
DTSTART:20220327T010000
END:DAYLIGHT
BEGIN:STANDARD
TZOFFSETFROM:+0100
TZOFFSETTO:+0000
TZNAME:GMT
DTSTART:20221030T010000
END:STANDARD
END:VTIMEZONE
BEGIN:VEVENT
DTSTART;TZID=Europe/London:20220917T083000
DTEND;TZID=Europe/London:20220917T123000
DTSTAMP:20260421T093749
CREATED:20221010T092545Z
LAST-MODIFIED:20230209T154228Z
UID:1113-1663403400-1663417800@www.hounslowmusic.org.uk
SUMMARY:SATURDAY MUSIC ACADEMY
DESCRIPTION:
URL:https://www.hounslowmusic.org.uk/event/saturday-music-academy/2022-09-17/
LOCATION:Hounslow Town Primary School\, School Rd\, London\, TW3 1QZ\, United Kingdom
CATEGORIES:MUSIC ACADEMY
END:VEVENT
END:VCALENDAR